BEGIN:VCALENDAR
VERSION:2.0
PRODID:-//VRC Homeowners Website - ECPv6.15.20//NONSGML v1.0//EN
CALSCALE:GREGORIAN
METHOD:PUBLISH
X-WR-CALNAME:VRC Homeowners Website
X-ORIGINAL-URL:https://homeowners.vailracquetclub.com
X-WR-CALDESC:Events for VRC Homeowners Website
REFRESH-INTERVAL;VALUE=DURATION:PT1H
X-Robots-Tag:noindex
X-PUBLISHED-TTL:PT1H
BEGIN:VTIMEZONE
TZID:UTC
BEGIN:STANDARD
TZOFFSETFROM:+0000
TZOFFSETTO:+0000
TZNAME:UTC
DTSTART:20210101T000000
END:STANDARD
END:VTIMEZONE
BEGIN:VEVENT
DTSTART;TZID=UTC:20220812T140000
DTEND;TZID=UTC:20220812T160000
DTSTAMP:20260421T144531
CREATED:20250730T100922Z
LAST-MODIFIED:20250730T100922Z
UID:1882-1660312800-1660320000@homeowners.vailracquetclub.com
SUMMARY:VRC Annual Homeowner Meeting (remote)
DESCRIPTION:
URL:https://homeowners.vailracquetclub.com/event/vrc-annual-homeowner-meeting-remote/
END:VEVENT
BEGIN:VEVENT
DTSTART;TZID=UTC:20220704T080000
DTEND;TZID=UTC:20220704T170000
DTSTAMP:20260421T144531
CREATED:20250730T101024Z
LAST-MODIFIED:20250730T101024Z
UID:1893-1656921600-1656954000@homeowners.vailracquetclub.com
SUMMARY:Vail America Days
DESCRIPTION:Come and celebrate the 4th of July in Vail with the return of the Vail America Days Parade and a choreographed drone show. \n   \n​
URL:https://homeowners.vailracquetclub.com/event/vail-america-days/
END:VEVENT
BEGIN:VEVENT
DTSTART;TZID=UTC:20220628T183000
DTEND;TZID=UTC:20220628T183000
DTSTAMP:20260421T144531
CREATED:20250730T101024Z
LAST-MODIFIED:20250730T101024Z
UID:1892-1656441000-1656441000@homeowners.vailracquetclub.com
SUMMARY:Hot Summer Nights
DESCRIPTION:Moe’s Original BBQ Hot Summer Nights\, a project of the nonprofit Vail Valley Foundation\, is a FREE annual concert series hosted throughout the summer at 6:30 pm throughout the summer at The Amp.  \n June 21 | The High Hawks | Americana \n June 28 | The Elovaters | Reggae \n July 5 | Tusk | Fleetwood Mac Tribute \n July 19 | Hayes Carll | Country \n August 18 | Grupo Fantasma | Latin Funk Orchestra \n August 23 | Jocelyn & Chris | Rock & Roll \n August 30 | North Mississippi AllStars | Southern Rock
URL:https://homeowners.vailracquetclub.com/event/hot-summer-nights/
END:VEVENT
BEGIN:VEVENT
DTSTART;TZID=UTC:20220626T093000
DTEND;TZID=UTC:20220626T093000
DTSTAMP:20260421T144531
CREATED:20250730T101024Z
LAST-MODIFIED:20250730T101024Z
UID:1891-1656235800-1656235800@homeowners.vailracquetclub.com
SUMMARY:Vail Farmer's Market
DESCRIPTION:
URL:https://homeowners.vailracquetclub.com/event/vail-farmers-market/
END:VEVENT
BEGIN:VEVENT
DTSTART;TZID=UTC:20220621T080000
DTEND;TZID=UTC:20220623T170000
DTSTAMP:20260421T144531
CREATED:20250730T100923Z
LAST-MODIFIED:20250730T100923Z
UID:1890-1655798400-1656003600@homeowners.vailracquetclub.com
SUMMARY:Condo Deck Washing & Stair Tower Cleaning
DESCRIPTION:
URL:https://homeowners.vailracquetclub.com/event/condo-deck-washing-stair-tower-cleaning/
END:VEVENT
BEGIN:VEVENT
DTSTART;VALUE=DATE:20220617
DTEND;VALUE=DATE:20220620
DTSTAMP:20260421T144531
CREATED:20250730T100923Z
LAST-MODIFIED:20250730T100923Z
UID:1886-1655424000-1655683199@homeowners.vailracquetclub.com
SUMMARY:Vail Arts Festival
DESCRIPTION:
URL:https://homeowners.vailracquetclub.com/event/vail-arts-festival/
END:VEVENT
BEGIN:VEVENT
DTSTART;VALUE=DATE:20220607
DTEND;VALUE=DATE:20220613
DTSTAMP:20260421T144531
CREATED:20250730T100922Z
LAST-MODIFIED:20250730T100922Z
UID:1885-1654560000-1655078399@homeowners.vailracquetclub.com
SUMMARY:GoPro Mountain Games
DESCRIPTION:
URL:https://homeowners.vailracquetclub.com/event/gopro-mountain-games/
END:VEVENT
BEGIN:VEVENT
DTSTART;VALUE=DATE:20220531
DTEND;VALUE=DATE:20220607
DTSTAMP:20260421T144531
CREATED:20250730T100923Z
LAST-MODIFIED:20250730T100923Z
UID:1889-1653955200-1654559999@homeowners.vailracquetclub.com
SUMMARY:VRC Wood Fireplace Inspections & Cleanings
DESCRIPTION:For VRC Buildings 9-12 & the Townhomes. Any questions can be sent to maintenance@vrcmr.com
URL:https://homeowners.vailracquetclub.com/event/vrc-wood-fireplace-inspections-cleanings/
END:VEVENT
BEGIN:VEVENT
DTSTART;VALUE=DATE:20220527
DTEND;VALUE=DATE:20220530
DTSTAMP:20260421T144531
CREATED:20250730T100922Z
LAST-MODIFIED:20250730T100922Z
UID:1884-1653609600-1653868799@homeowners.vailracquetclub.com
SUMMARY:Vail Comedy Festival
DESCRIPTION:
URL:https://homeowners.vailracquetclub.com/event/vail-comedy-festival/
END:VEVENT
BEGIN:VEVENT
DTSTART;VALUE=DATE:20220516
DTEND;VALUE=DATE:20220531
DTSTAMP:20260421T144531
CREATED:20250730T100923Z
LAST-MODIFIED:20250730T100923Z
UID:1888-1652659200-1653955199@homeowners.vailracquetclub.com
SUMMARY:Clay Court Resurfacing
DESCRIPTION:
URL:https://homeowners.vailracquetclub.com/event/clay-court-resurfacing/
END:VEVENT
BEGIN:VEVENT
DTSTART;VALUE=DATE:20220418
DTEND;VALUE=DATE:20221002
DTSTAMP:20260421T144531
CREATED:20250730T100923Z
LAST-MODIFIED:20250730T100923Z
UID:1887-1650240000-1664668799@homeowners.vailracquetclub.com
SUMMARY:VRC Building 8 Deck Replacement Project
DESCRIPTION:
URL:https://homeowners.vailracquetclub.com/event/vrc-building-8-deck-replacement-project/
END:VEVENT
BEGIN:VEVENT
DTSTART;VALUE=DATE:20220406
DTEND;VALUE=DATE:20220410
DTSTAMP:20260421T144531
CREATED:20250730T100922Z
LAST-MODIFIED:20250730T100922Z
UID:1883-1649203200-1649548799@homeowners.vailracquetclub.com
SUMMARY:Taste of Vail
DESCRIPTION:
URL:https://homeowners.vailracquetclub.com/event/taste-of-vail/
END:VEVENT
BEGIN:VEVENT
DTSTART;TZID=UTC:20220330T080000
DTEND;TZID=UTC:20220330T170000
DTSTAMP:20260421T144531
CREATED:20250730T100922Z
LAST-MODIFIED:20250730T100922Z
UID:1881-1648627200-1648659600@homeowners.vailracquetclub.com
SUMMARY:Test Event One
DESCRIPTION:Some Content here
URL:https://homeowners.vailracquetclub.com/event/test-event-one/
END:VEVENT
END:VCALENDAR