BEGIN:VCALENDAR
VERSION:2.0
PRODID:-//VRC Homeowners Website - ECPv6.15.20//NONSGML v1.0//EN
CALSCALE:GREGORIAN
METHOD:PUBLISH
X-WR-CALNAME:VRC Homeowners Website
X-ORIGINAL-URL:https://homeowners.vailracquetclub.com
X-WR-CALDESC:Events for VRC Homeowners Website
REFRESH-INTERVAL;VALUE=DURATION:PT1H
X-Robots-Tag:noindex
X-PUBLISHED-TTL:PT1H
BEGIN:VTIMEZONE
TZID:UTC
BEGIN:STANDARD
TZOFFSETFROM:+0000
TZOFFSETTO:+0000
TZNAME:UTC
DTSTART:20230101T000000
END:STANDARD
END:VTIMEZONE
BEGIN:VEVENT
DTSTART;TZID=UTC:20250914T090000
DTEND;TZID=UTC:20250914T150000
DTSTAMP:20260420T211246
CREATED:20250730T103459Z
LAST-MODIFIED:20250730T103459Z
UID:1955-1757840400-1757862000@homeowners.vailracquetclub.com
SUMMARY:Vail Farmers' Market & Art Show
DESCRIPTION:Head into Vail Village for the Summer Farmers’ Market! Hours: 9:30am- 3:00pm.
URL:https://homeowners.vailracquetclub.com/event/vail-farmers-market-art-show-14/
END:VEVENT
BEGIN:VEVENT
DTSTART;TZID=UTC:20250907T090000
DTEND;TZID=UTC:20250907T150000
DTSTAMP:20260420T211246
CREATED:20250730T103459Z
LAST-MODIFIED:20250730T103459Z
UID:1954-1757235600-1757257200@homeowners.vailracquetclub.com
SUMMARY:Vail Farmers' Market & Art Show
DESCRIPTION:Head into Vail Village for the Summer Farmers’ Market! Hours: 9:30am- 3:00pm.
URL:https://homeowners.vailracquetclub.com/event/vail-farmers-market-art-show-13/
END:VEVENT
BEGIN:VEVENT
DTSTART;TZID=UTC:20250831T090000
DTEND;TZID=UTC:20250831T150000
DTSTAMP:20260420T211246
CREATED:20250730T103459Z
LAST-MODIFIED:20250730T103459Z
UID:1953-1756630800-1756652400@homeowners.vailracquetclub.com
SUMMARY:Vail Farmers' Market & Art Show
DESCRIPTION:Head into Vail Village for the Summer Farmers’ Market! Hours: 9:30am- 3:00pm.
URL:https://homeowners.vailracquetclub.com/event/vail-farmers-market-art-show-12/
END:VEVENT
BEGIN:VEVENT
DTSTART;TZID=UTC:20250824T090000
DTEND;TZID=UTC:20250824T150000
DTSTAMP:20260420T211246
CREATED:20250730T103459Z
LAST-MODIFIED:20250730T103459Z
UID:1952-1756026000-1756047600@homeowners.vailracquetclub.com
SUMMARY:Vail Farmers' Market & Art Show
DESCRIPTION:Head into Vail Village for the Summer Farmers’ Market! Hours: 9:30am- 3:00pm.
URL:https://homeowners.vailracquetclub.com/event/vail-farmers-market-art-show-11/
END:VEVENT
BEGIN:VEVENT
DTSTART;TZID=UTC:20250817T090000
DTEND;TZID=UTC:20250817T150000
DTSTAMP:20260420T211246
CREATED:20250730T103459Z
LAST-MODIFIED:20250730T103459Z
UID:1951-1755421200-1755442800@homeowners.vailracquetclub.com
SUMMARY:Vail Farmers' Market & Art Show
DESCRIPTION:Head into Vail Village for the Summer Farmers’ Market! Hours: 9:30am- 3:00pm.
URL:https://homeowners.vailracquetclub.com/event/vail-farmers-market-art-show-10/
END:VEVENT
BEGIN:VEVENT
DTSTART;TZID=UTC:20250810T090000
DTEND;TZID=UTC:20250810T150000
DTSTAMP:20260420T211246
CREATED:20250730T103358Z
LAST-MODIFIED:20250730T103358Z
UID:1950-1754816400-1754838000@homeowners.vailracquetclub.com
SUMMARY:Vail Farmers' Market & Art Show
DESCRIPTION:Head into Vail Village for the Summer Farmers’ Market! Hours: 9:30am- 3:00pm.
URL:https://homeowners.vailracquetclub.com/event/vail-farmers-market-art-show-9/
END:VEVENT
BEGIN:VEVENT
DTSTART;TZID=UTC:20250809T163000
DTEND;TZID=UTC:20250809T183000
DTSTAMP:20260420T211246
CREATED:20250730T103520Z
LAST-MODIFIED:20250730T103520Z
UID:1960-1754757000-1754764200@homeowners.vailracquetclub.com
SUMMARY:Annual Homeowners' BBQ
DESCRIPTION:Join us on the patio for some food and fun!
URL:https://homeowners.vailracquetclub.com/event/annual-homeowners-bbq/
END:VEVENT
BEGIN:VEVENT
DTSTART;TZID=UTC:20250807T170000
DTEND;TZID=UTC:20250807T190000
DTSTAMP:20260420T211246
CREATED:20250730T103057Z
LAST-MODIFIED:20250807T122449Z
UID:1936-1754586000-1754593200@homeowners.vailracquetclub.com
SUMMARY:VRC 2025 Annual Homeowner Meeting
DESCRIPTION:Mark your calendars for the 2025 virtual Annual Homeowner meeting!
URL:https://homeowners.vailracquetclub.com/event/vrc-2025-annual-homeowner-meeting/
END:VEVENT
BEGIN:VEVENT
DTSTART;TZID=UTC:20250803T090000
DTEND;TZID=UTC:20250803T150000
DTSTAMP:20260420T211246
CREATED:20250730T103358Z
LAST-MODIFIED:20250730T103358Z
UID:1949-1754211600-1754233200@homeowners.vailracquetclub.com
SUMMARY:Vail Farmers' Market & Art Show
DESCRIPTION:Head into Vail Village for the Summer Farmers’ Market! Hours: 9:30am- 3:00pm.
URL:https://homeowners.vailracquetclub.com/event/vail-farmers-market-art-show-8/
END:VEVENT
BEGIN:VEVENT
DTSTART;TZID=UTC:20250727T090000
DTEND;TZID=UTC:20250727T150000
DTSTAMP:20260420T211246
CREATED:20250730T103358Z
LAST-MODIFIED:20250730T103358Z
UID:1948-1753606800-1753628400@homeowners.vailracquetclub.com
SUMMARY:Vail Farmers' Market & Art Show
DESCRIPTION:Head into Vail Village for the Summer Farmers’ Market! Hours: 9:30am- 3:00pm.
URL:https://homeowners.vailracquetclub.com/event/vail-farmers-market-art-show-7/
END:VEVENT
BEGIN:VEVENT
DTSTART;TZID=UTC:20250720T090000
DTEND;TZID=UTC:20250720T150000
DTSTAMP:20260420T211246
CREATED:20250730T103358Z
LAST-MODIFIED:20250730T103358Z
UID:1947-1753002000-1753023600@homeowners.vailracquetclub.com
SUMMARY:Vail Farmers' Market & Art Show
DESCRIPTION:Head into Vail Village for the Summer Farmers’ Market! Hours: 9:30am- 3:00pm.
URL:https://homeowners.vailracquetclub.com/event/vail-farmers-market-art-show-6/
END:VEVENT
BEGIN:VEVENT
DTSTART;TZID=UTC:20250713T090000
DTEND;TZID=UTC:20250713T150000
DTSTAMP:20260420T211246
CREATED:20250730T103358Z
LAST-MODIFIED:20250730T103358Z
UID:1946-1752397200-1752418800@homeowners.vailracquetclub.com
SUMMARY:Vail Farmers' Market & Art Show
DESCRIPTION:Head into Vail Village for the Summer Farmers’ Market! Hours: 9:30am- 3:00pm.
URL:https://homeowners.vailracquetclub.com/event/vail-farmers-market-art-show-5/
END:VEVENT
BEGIN:VEVENT
DTSTART;TZID=UTC:20250706T090000
DTEND;TZID=UTC:20250706T150000
DTSTAMP:20260420T211246
CREATED:20250730T103158Z
LAST-MODIFIED:20250730T103158Z
UID:1945-1751792400-1751814000@homeowners.vailracquetclub.com
SUMMARY:Vail Farmers' Market & Art Show
DESCRIPTION:Head into Vail Village for the Summer Farmers’ Market! Hours: 9:30am- 3:00pm.
URL:https://homeowners.vailracquetclub.com/event/vail-farmers-market-art-show-4/
END:VEVENT
BEGIN:VEVENT
DTSTART;TZID=UTC:20250704T140000
DTEND;TZID=UTC:20250704T163000
DTSTAMP:20260420T211246
CREATED:20250730T103548Z
LAST-MODIFIED:20250730T103548Z
UID:1966-1751637600-1751646600@homeowners.vailracquetclub.com
SUMMARY:Bravo Vail
DESCRIPTION:Patriotic Concert Performed By The Dallas Symphony Orchestra.
URL:https://homeowners.vailracquetclub.com/event/bravo-vail-5/
END:VEVENT
BEGIN:VEVENT
DTSTART;VALUE=DATE:20250704
DTEND;VALUE=DATE:20250705
DTSTAMP:20260420T211246
CREATED:20250730T103548Z
LAST-MODIFIED:20250730T103548Z
UID:1967-1751587200-1751673599@homeowners.vailracquetclub.com
SUMMARY:The Vail Village 4th of July Celebration
DESCRIPTION:Happy 4th Of July!  \n 10am: Parade \n 9:45 pm: Fireworks
URL:https://homeowners.vailracquetclub.com/event/the-vail-village-4th-of-july-celebration/
END:VEVENT
BEGIN:VEVENT
DTSTART;TZID=UTC:20250702T180000
DTEND;TZID=UTC:20250702T203000
DTSTAMP:20260420T211246
CREATED:20250730T103539Z
LAST-MODIFIED:20250730T103539Z
UID:1965-1751479200-1751488200@homeowners.vailracquetclub.com
SUMMARY:Bravo Vail!
DESCRIPTION:Decades: Back To The 80’s Performed By The Dallas Symphony Orchestra!  \n  
URL:https://homeowners.vailracquetclub.com/event/bravo-vail-4/
END:VEVENT
BEGIN:VEVENT
DTSTART;TZID=UTC:20250701T180000
DTEND;TZID=UTC:20250701T210000
DTSTAMP:20260420T211246
CREATED:20250730T103539Z
LAST-MODIFIED:20250730T103539Z
UID:1964-1751392800-1751403600@homeowners.vailracquetclub.com
SUMMARY:Bravo Vail!
DESCRIPTION:Beethoven Symphony no.7 Performed By The Dallas Symphony Orchestra!  \n  
URL:https://homeowners.vailracquetclub.com/event/bravo-vail-3/
END:VEVENT
BEGIN:VEVENT
DTSTART;TZID=UTC:20250629T193000
DTEND;TZID=UTC:20250629T213000
DTSTAMP:20260420T211246
CREATED:20250730T103539Z
LAST-MODIFIED:20250730T103539Z
UID:1963-1751225400-1751232600@homeowners.vailracquetclub.com
SUMMARY:Bravo Vail!
DESCRIPTION:The Princess Bride In Concert Performed By The Dallas Symphony Orchestra
URL:https://homeowners.vailracquetclub.com/event/bravo-vail-2/
END:VEVENT
BEGIN:VEVENT
DTSTART;TZID=UTC:20250629T090000
DTEND;TZID=UTC:20250629T150000
DTSTAMP:20260420T211246
CREATED:20250730T103158Z
LAST-MODIFIED:20250730T103158Z
UID:1944-1751187600-1751209200@homeowners.vailracquetclub.com
SUMMARY:Vail Farmers' Market & Art Show
DESCRIPTION:Head into Vail Village for the Summer Farmers’ Market! Hours: 9:30am- 3:00pm.
URL:https://homeowners.vailracquetclub.com/event/vail-farmers-market-art-show-3/
END:VEVENT
BEGIN:VEVENT
DTSTART;TZID=UTC:20250628T180000
DTEND;TZID=UTC:20250628T210000
DTSTAMP:20260420T211246
CREATED:20250730T103539Z
LAST-MODIFIED:20250730T103539Z
UID:1962-1751133600-1751144400@homeowners.vailracquetclub.com
SUMMARY:Bravo Vail!
DESCRIPTION:Elgar Enigma Variations Performed By The Dallas Symphony Orchestra!  \n  
URL:https://homeowners.vailracquetclub.com/event/bravo-vail/
END:VEVENT
BEGIN:VEVENT
DTSTART;TZID=UTC:20250622T090000
DTEND;TZID=UTC:20250622T150000
DTSTAMP:20260420T211246
CREATED:20250730T103158Z
LAST-MODIFIED:20250730T103158Z
UID:1943-1750582800-1750604400@homeowners.vailracquetclub.com
SUMMARY:Vail Farmers' Market & Art Show
DESCRIPTION:Head into Vail Village for the Summer Farmers’ Market! Hours: 9:30am- 3:00pm.
URL:https://homeowners.vailracquetclub.com/event/vail-farmers-market-art-show-2/
END:VEVENT
BEGIN:VEVENT
DTSTART;TZID=UTC:20250621T160000
DTEND;TZID=UTC:20250621T180000
DTSTAMP:20260420T211246
CREATED:20250730T103548Z
LAST-MODIFIED:20250730T103548Z
UID:1968-1750521600-1750528800@homeowners.vailracquetclub.com
SUMMARY:VRC Owner & Member Tennis Social
DESCRIPTION:Come join us for our first tennis social! We will be serving up light snacks and beverages! 4-6 PM
URL:https://homeowners.vailracquetclub.com/event/vrc-owner-member-tennis-social/
END:VEVENT
BEGIN:VEVENT
DTSTART;TZID=UTC:20250617T183000
DTEND;TZID=UTC:20250617T220000
DTSTAMP:20260420T211246
CREATED:20250730T103539Z
LAST-MODIFIED:20250730T103539Z
UID:1961-1750185000-1750197600@homeowners.vailracquetclub.com
SUMMARY:Hot Summer Nights @ The Amp
DESCRIPTION:Let Loose at Vail’s FREE Summer Concert Series!
URL:https://homeowners.vailracquetclub.com/event/hot-summer-nights-the-amp/
END:VEVENT
BEGIN:VEVENT
DTSTART;TZID=UTC:20250615T090000
DTEND;TZID=UTC:20250615T150000
DTSTAMP:20260420T211246
CREATED:20250730T103158Z
LAST-MODIFIED:20250730T103158Z
UID:1942-1749978000-1749999600@homeowners.vailracquetclub.com
SUMMARY:Vail Farmers' Market & Art Show
DESCRIPTION:Head into Vail Village for the Summer Farmers’ Market! Hours: 9:30am- 3:00pm.
URL:https://homeowners.vailracquetclub.com/event/vail-farmers-market-art-show/
END:VEVENT
BEGIN:VEVENT
DTSTART;TZID=UTC:20250613T150000
DTEND;TZID=UTC:20250613T170000
DTSTAMP:20260420T211246
CREATED:20250730T103520Z
LAST-MODIFIED:20250730T103520Z
UID:1959-1749826800-1749834000@homeowners.vailracquetclub.com
SUMMARY:Budget Ratification Meeting
DESCRIPTION:Budget Ratification Meeting for the Racquet Club Owners Association to review the budget for the June 2024-May 2025 fiscal year. The meeting will be held via Zoom on June 13\, 2024 at 3 pm MDT
URL:https://homeowners.vailracquetclub.com/event/budget-ratification-meeting/
END:VEVENT
BEGIN:VEVENT
DTSTART;TZID=UTC:20240613T150000
DTEND;TZID=UTC:20240613T160000
DTSTAMP:20260420T211246
CREATED:20250730T103158Z
LAST-MODIFIED:20250730T103158Z
UID:1941-1718290800-1718294400@homeowners.vailracquetclub.com
SUMMARY:VRC HOA Budget Ratification Meeting
DESCRIPTION:
URL:https://homeowners.vailracquetclub.com/event/vrc-hoa-budget-ratification-meeting/
END:VEVENT
BEGIN:VEVENT
DTSTART;VALUE=DATE:20240529
DTEND;VALUE=DATE:20240601
DTSTAMP:20260420T211246
CREATED:20250730T103056Z
LAST-MODIFIED:20250730T103056Z
UID:1933-1716940800-1717199999@homeowners.vailracquetclub.com
SUMMARY:Wood Burning Fireplace/Stove Inspections
DESCRIPTION:
URL:https://homeowners.vailracquetclub.com/event/wood-burning-fireplace-stove-inspections/
END:VEVENT
BEGIN:VEVENT
DTSTART;VALUE=DATE:20240513
DTEND;VALUE=DATE:20240518
DTSTAMP:20260420T211246
CREATED:20250730T103056Z
LAST-MODIFIED:20250730T103056Z
UID:1932-1715558400-1715990399@homeowners.vailracquetclub.com
SUMMARY:VRC Fire Alarm Inspections
DESCRIPTION:
URL:https://homeowners.vailracquetclub.com/event/vrc-fire-alarm-inspections/
END:VEVENT
BEGIN:VEVENT
DTSTART;VALUE=DATE:20240502
DTEND;VALUE=DATE:20240601
DTSTAMP:20260420T211246
CREATED:20250730T103058Z
LAST-MODIFIED:20250730T103058Z
UID:1939-1714608000-1717199999@homeowners.vailracquetclub.com
SUMMARY:VRC Exterior Window Washing
DESCRIPTION:
URL:https://homeowners.vailracquetclub.com/event/vrc-exterior-window-washing/
END:VEVENT
BEGIN:VEVENT
DTSTART;VALUE=DATE:20240501
DTEND;VALUE=DATE:20240601
DTSTAMP:20260420T211246
CREATED:20250730T103058Z
LAST-MODIFIED:20250730T103058Z
UID:1940-1714521600-1717199999@homeowners.vailracquetclub.com
SUMMARY:VRC Townhome Asphalt Project
DESCRIPTION:This year’s Townhome Asphalt Project involves:  \n 1. Removal of all existing asphalt beginning in front of townhome E and around to the end of townhome G. (where the asphalt work ended last year) down to roughly the middle of building G.\n 2. Cut and remove all asphalt and install a concrete drain pan.\n 3. Grade and replace asphalt. \n The road through the townhomes will be barricaded from the east end of townhome G down to the east end of townhome B for most of the project which means that you will not be able to drive to or park in front of buildings D\, E\, F\, G and H (map attached). \n Assuming weather\, crews\, equipment\, etc. don’t derail us\, the work will take approximately 3 weeks to complete.
URL:https://homeowners.vailracquetclub.com/event/vrc-townhome-asphalt-project/
END:VEVENT
END:VCALENDAR