BEGIN:VCALENDAR
VERSION:2.0
PRODID:-//VRC Homeowners Website - ECPv6.15.20//NONSGML v1.0//EN
CALSCALE:GREGORIAN
METHOD:PUBLISH
X-WR-CALNAME:VRC Homeowners Website
X-ORIGINAL-URL:https://homeowners.vailracquetclub.com
X-WR-CALDESC:Events for VRC Homeowners Website
REFRESH-INTERVAL;VALUE=DURATION:PT1H
X-Robots-Tag:noindex
X-PUBLISHED-TTL:PT1H
BEGIN:VTIMEZONE
TZID:UTC
BEGIN:STANDARD
TZOFFSETFROM:+0000
TZOFFSETTO:+0000
TZNAME:UTC
DTSTART:20240101T000000
END:STANDARD
END:VTIMEZONE
BEGIN:VEVENT
DTSTART;TZID=UTC:20250921T090000
DTEND;TZID=UTC:20250921T150000
DTSTAMP:20260420T032823
CREATED:20250730T103520Z
LAST-MODIFIED:20250730T103520Z
UID:1956-1758445200-1758466800@homeowners.vailracquetclub.com
SUMMARY:Vail Farmers' Market & Art Show
DESCRIPTION:Head into Vail Village for the Summer Farmers’ Market! Hours: 9:30am- 3:00pm.
URL:https://homeowners.vailracquetclub.com/event/vail-farmers-market-art-show-15/
END:VEVENT
END:VCALENDAR